BEGIN:VCALENDAR
VERSION:2.0
PRODID:-//Sol Margin Fishing &amp; Conservation Foundation - ECPv6.15.13//NONSGML v1.0//EN
CALSCALE:GREGORIAN
METHOD:PUBLISH
X-WR-CALNAME:Sol Margin Fishing &amp; Conservation Foundation
X-ORIGINAL-URL:https://www.solmarginfishing.org
X-WR-CALDESC:Events for Sol Margin Fishing &amp; Conservation Foundation
REFRESH-INTERVAL;VALUE=DURATION:PT1H
X-Robots-Tag:noindex
X-PUBLISHED-TTL:PT1H
BEGIN:VTIMEZONE
TZID:America/New_York
BEGIN:DAYLIGHT
TZOFFSETFROM:-0500
TZOFFSETTO:-0400
TZNAME:EDT
DTSTART:20230312T070000
END:DAYLIGHT
BEGIN:STANDARD
TZOFFSETFROM:-0400
TZOFFSETTO:-0500
TZNAME:EST
DTSTART:20231105T060000
END:STANDARD
BEGIN:DAYLIGHT
TZOFFSETFROM:-0500
TZOFFSETTO:-0400
TZNAME:EDT
DTSTART:20240310T070000
END:DAYLIGHT
BEGIN:STANDARD
TZOFFSETFROM:-0400
TZOFFSETTO:-0500
TZNAME:EST
DTSTART:20241103T060000
END:STANDARD
BEGIN:DAYLIGHT
TZOFFSETFROM:-0500
TZOFFSETTO:-0400
TZNAME:EDT
DTSTART:20250309T070000
END:DAYLIGHT
BEGIN:STANDARD
TZOFFSETFROM:-0400
TZOFFSETTO:-0500
TZNAME:EST
DTSTART:20251102T060000
END:STANDARD
END:VTIMEZONE
BEGIN:VEVENT
DTSTART;TZID=America/New_York:20240324T110000
DTEND;TZID=America/New_York:20240324T130000
DTSTAMP:20260423T182345
CREATED:20240309T212154Z
LAST-MODIFIED:20240321T005708Z
UID:5021-1711278000-1711285200@www.solmarginfishing.org
SUMMARY:Cleanup | Ponte Vedra Beach Litter Crew
DESCRIPTION:Ponte Vedra Beach Litter Crew\nCleanup from 11:00am-1:00pm est\n\nMeet at Chili’s parking lot in Ponte Vedra:\n385 Marsh Landing Pkwy\, Jacksonville Beach\, FL 32250\n\nHost: Elizabeth Joshi
URL:https://www.solmarginfishing.org/event/cleanup-ponte-vedra-beach-litter-crew/
LOCATION:Chili’s Parking Lot\, 385 Marsh Landing Pkwy\, Jacksonville\, 32250\, United States
CATEGORIES:Community Clean Up
ORGANIZER;CN="Elizabeth Joshi":MAILTO:esjoshi@yahoo.com
END:VEVENT
END:VCALENDAR