BEGIN:VCALENDAR
VERSION:2.0
PRODID:-//Sol Margin Fishing &amp; Conservation Foundation - ECPv6.15.13//NONSGML v1.0//EN
CALSCALE:GREGORIAN
METHOD:PUBLISH
X-WR-CALNAME:Sol Margin Fishing &amp; Conservation Foundation
X-ORIGINAL-URL:https://www.solmarginfishing.org
X-WR-CALDESC:Events for Sol Margin Fishing &amp; Conservation Foundation
REFRESH-INTERVAL;VALUE=DURATION:PT1H
X-Robots-Tag:noindex
X-PUBLISHED-TTL:PT1H
BEGIN:VTIMEZONE
TZID:America/New_York
BEGIN:DAYLIGHT
TZOFFSETFROM:-0500
TZOFFSETTO:-0400
TZNAME:EDT
DTSTART:20230312T070000
END:DAYLIGHT
BEGIN:STANDARD
TZOFFSETFROM:-0400
TZOFFSETTO:-0500
TZNAME:EST
DTSTART:20231105T060000
END:STANDARD
BEGIN:DAYLIGHT
TZOFFSETFROM:-0500
TZOFFSETTO:-0400
TZNAME:EDT
DTSTART:20240310T070000
END:DAYLIGHT
BEGIN:STANDARD
TZOFFSETFROM:-0400
TZOFFSETTO:-0500
TZNAME:EST
DTSTART:20241103T060000
END:STANDARD
BEGIN:DAYLIGHT
TZOFFSETFROM:-0500
TZOFFSETTO:-0400
TZNAME:EDT
DTSTART:20250309T070000
END:DAYLIGHT
BEGIN:STANDARD
TZOFFSETFROM:-0400
TZOFFSETTO:-0500
TZNAME:EST
DTSTART:20251102T060000
END:STANDARD
END:VTIMEZONE
BEGIN:VEVENT
DTSTART;TZID=America/New_York:20241121T190000
DTEND;TZID=America/New_York:20241121T200000
DTSTAMP:20260423T194449
CREATED:20241107T054332Z
LAST-MODIFIED:20241107T054332Z
UID:6703-1732215600-1732219200@www.solmarginfishing.org
SUMMARY:National Parks: Invasive Species\, Policy & You | Webinar
DESCRIPTION:Join us for an engaging webinar where we dive into the complex issue of invasive species in America’s treasured national parks. Invasive species are a leading cause of biodiversity loss globally\, competing with native flora and fauna\, altering habitats\, and sometimes even introducing harmful diseases. This event will give you an in-depth look at the far-reaching impacts of invasive species in parks like Everglades National Park\, Timucuan Preserve\, and Castillo de San Marcos\, highlighting species like non-native fish\, feral hogs\, and the brown anole.\n\nEvent Speaker: Dr. Vanessa Trujillo\nRegister to Attend:Register Here
URL:https://www.solmarginfishing.org/event/national-parks-invasive-species-policy-you-webinar/
CATEGORIES:Webinar
ATTACH;FMTTYPE=image/gif:https://pub-ab64f5847ba2461baf543135ab9b77eb.r2.dev/2024/11/National-Parks-Invasive-Species.gif
ORGANIZER;CN="Sol Margin Fishing &amp%3B Conservation Foundation":MAILTO:mail@solmarginfishing.org
END:VEVENT
BEGIN:VEVENT
DTSTART;TZID=America/New_York:20240425T190000
DTEND;TZID=America/New_York:20240425T200000
DTSTAMP:20260423T194449
CREATED:20240327T154742Z
LAST-MODIFIED:20240327T161813Z
UID:5365-1714071600-1714075200@www.solmarginfishing.org
SUMMARY:Climate Change: How it Affects Us All | Webinar
DESCRIPTION:The national parks are currently confronting their most significant challenge in the form of climate change. The various elements that make these parks special\, including their flora and fauna\, water bodies\, glaciers\, coastlines\, and historical landmarks\, are already feeling the impact of climate-related stress. This collective strain is pushing our public lands into a state of crisis. By closely observing the changes occurring in national parks\, we gain valuable insights into the potential risks we face if we do not earnestly tackle the climate crisis.\n\nEvent Speaker: Dr. Vanessa Trujillo\nRegister to Attend: https://www.solmarginfishing.org/climatechange/
URL:https://www.solmarginfishing.org/event/climate-change-how-it-affects-us-all/
CATEGORIES:Webinar
ATTACH;FMTTYPE=image/jpeg:https://pub-ab64f5847ba2461baf543135ab9b77eb.r2.dev/2024/03/Climate-Change-Thumbnail.jpg
ORGANIZER;CN="Sol Margin Fishing &amp%3B Conservation Foundation":MAILTO:mail@solmarginfishing.org
END:VEVENT
BEGIN:VEVENT
DTSTART;TZID=America/New_York:20240416T190000
DTEND;TZID=America/New_York:20240416T200000
DTSTAMP:20260423T194449
CREATED:20240324T025504Z
LAST-MODIFIED:20240327T161559Z
UID:5279-1713294000-1713297600@www.solmarginfishing.org
SUMMARY:Guiding the Goliath Grouper | Webinar
DESCRIPTION:Evading Extinction in the Anthropocene: Guiding the Goliath Grouper \n\nPopulations of goliath grouper\, an enormous species that was once on the brink of extinction\, are slowly recovering in Florida. Learn about the biology and conservation of this unique species and its importance to the fishing and diving industries in Florida. This webinar will also highlight ground-breaking research on improving the fishery regulations of goliath grouper and will take you underwater to see what life is like on an artificial reef from the fish’s perspective! \n\n\nAward Winning Speaker: Clark Morgan \n\nRegister to Attend: https://www.solmarginfishing.org/guiding-the-goliath-grouper/
URL:https://www.solmarginfishing.org/event/guiding-the-goliath-grouper-webinar/
CATEGORIES:Webinar
ATTACH;FMTTYPE=image/jpeg:https://pub-ab64f5847ba2461baf543135ab9b77eb.r2.dev/2024/03/Guiding-the-Goliath-Grouper-Thumbnail.jpg
ORGANIZER;CN="Sol Margin Fishing &amp%3B Conservation Foundation":MAILTO:mail@solmarginfishing.org
END:VEVENT
END:VCALENDAR